BEGIN:VCALENDAR
VERSION:2.0
PRODID:-//ChamberMaster//Event Calendar 2.0//EN
METHOD:PUBLISH
X-PUBLISHED-TTL:P3D
REFRESH-INTERVAL:P3D
CALSCALE:GREGORIAN
BEGIN:VEVENT
DTSTART:20260203T160000Z
DTEND:20260203T220000Z
X-MICROSOFT-CDO-ALLDAYEVENT:FALSE
SUMMARY:Lodi Grape Day
DESCRIPTION:Lodi Grape Day 2026\n\n74 Years of Research\, Education & Innovation.\n\nTuesday\, February 3\, 2026\n\n8:05 AM   11:30 AM\n\nHutchins Street Square | Lodi\, CA\n\nLodi Grape Day is the region's premier annual educational forum for the winegrape industry. Each year\, growers\, PCAs\, private applicators\, and technical advisors from across California gather on the first Tuesday of February to hear directly from leading university researchers and industry experts.\n\nNow in its 74th year\, Lodi Grape Day is proudly presented by the Lodi District Chamber of Commerce Agribusiness Committee in partnership with University of California Cooperative Extension.\n\nAttendance during the morning presentations and wine tasting is free and open to everyone (RSVP required). Tickets are required for the luncheon and keynote speaker presentation.\n\nREGISTER HERE\n\nWhy Attend\n\nLodi Grape Day delivers research-driven\, practical vineyard management insights focused on:\n\n\n	Integrated Pest Management (IPM)\n	Disease and insect control\n	Precision viticulture\n	Irrigation system performance\n	Emerging pest threats\n	New technologies shaping vineyard efficiency\n\nAttendees will earn 3 hours of DPR Continuing Education (OTHER category) while gaining tools they can immediately apply in the field.\n\n\n\n2026 Featured Topics & Speakers\n\nHighlights from this year's program include:\n\n\n	Drones in Viticulture   Dr. Justin Tanner\, UC Cooperative Extension\n	Drip Irrigation System Maintenance   Dr. Moneim Mohamed\, UC Cooperative Extension\n	Integrated Management of Powdery Mildew\, Botrytis & Late-Season Rots   Dr. Akif Eskalen\, UC Davis\n	Leafhopper & Vine Mealybug Control   Dr. Robert Van Steenwyk\, UC Berkeley\n	Spotted Lanternfly: Early Detection & Preparedness   Dr. Cindy Kron\, UC Cooperative Extension\n	Precision Viticulture & Spatial Vineyard Management   Dr. Cliff Yu\, Fresno State University\n\nWho Should Attend\n\n\n	Winegrape growers\n	Pest Control Advisors (PCAs)\n	Private applicators\n	Vineyard managers\n	Agricultural consultants\n	Technical advisors\n\n\n\nSponsorship Levels & Benefits\n\nMETHUSELAH LEVEL   $2\,500\n\n\n	Full-page color ad in Grape Day publication (8" x 11" vertical)\n	Company banner displayed at Lodi Grape Day & Lodi Farm Safety Day\n\n	(10' x 3' max banner delivered to the Lodi Chamber Office 3 weeks prior to the event)\n	Company logo on presentation screen at Grape Day & Farm Safety Day\n	Full-page insert flyer at Farm Safety Day (flyer provided by sponsor)\n	Opportunity to hand out company logo promotional item or giveaway at Grape Day and/or Farm Safety Day\n	Lodi Grape Day luncheon at Hutchins Street Square\n\n	Sponsors must RSVP luncheon reservations by 1/17/2026\n\n	(Select one):Reserved table of 10 or 10 individual tickets\n	Company name placed on Lodi Grape Day/Farm Safety Day event page at lodichamber.com for 12 months with a link to your website\n\n \n\nIMPERIAL LEVEL   $1\,500\n\n\n	Half-page color ad in Grape Day publication (7.5" x 5" horizontal)\n	Company name listed on presentation screen at Lodi Grape Day & Lodi Farm Safety Day\n	Company name listed on sponsor insert at Farm Safety Day\n	Opportunity to hand out company logo promotional item or giveaway at Grape Day and/or Farm Safety Day\n	5 complimentary Lodi Grape Day luncheon tickets\n\n	Sponsors must RSVP luncheon reservations by 1/17/2026\n	Company name placed on Lodi Grape Day/Farm Safety Day event page at lodichamber.com for 12 months with a link to your website\n\n \n\nJEROBOAM LEVEL   $1\,000\n\n\n	Quarter-page color ad in event programs (3.5" x 5" vertical)\n	5 complimentary Lodi Grape Day luncheon tickets\n\n	Sponsors must RSVP luncheon reservations by 1/17/2026\n	Company name mentioned as a sponsor on a presentation screen\n	Company name placed on Lodi Grape Day/Farm Safety Day event page at lodichamber.com for 12 months with a link to your website\n\n \n\nDOUBLE MAGNUM LEVEL   $500\n\n\n	Business card-sized color ad in event programs (3.5" x 2" horizontal)\n	4 complimentary Lodi Grape Day luncheon tickets\n\n	Sponsors must RSVP luncheon reservations by 1/17/2026\n	Company name mentioned as a sponsor on a presentation screen\n	Company name placed on Lodi Grape Day/Farm Safety Day event page at lodichamber.com for 12 months with a link to your website\n\n \n\nMAGNUM LEVEL   $200\n\n\n	Company name listed in event programs\n	3 complimentary Lodi Grape Day luncheon tickets\n\n	Sponsors must RSVP luncheon reservations by 1/17/2026\n	Company name mentioned as a sponsor on a presentation screen\n	Company name placed on Lodi Grape Day/Farm Safety Day event page at lodichamber.com for 12 months with a link to your website\n\n\n \n\nSponsorships available through January 17\, 2025\n\nClick Here to Download Sponsorship Form\n\nQuestions? Contact events@lodichamber.com
X-ALT-DESC;FMTTYPE=text/html:<p style="box-sizing: border-box\; margin: 0px 0px 10px\; color: rgb(85\, 85\, 85)\; font-family: Montserrat\, sans-serif\; font-size: 16px\;"><span style="font-size:14px\;"><span style="font-family:verdana\;"><span style="font-size:26px\;"><strong>Lodi Grape Day 2026</strong></span><br />\n<strong>74 Years of Research\, Education &amp\; Innovation.</strong><br />\n<strong>Tuesday\, February 3\, 2026</strong><br />\n<strong>8:05 AM &ndash\; 11:30 AM</strong><br />\n<em>Hutchins Street Square | Lodi\, CA</em><br />\nLodi Grape Day is the region&rsquo\;s premier annual educational forum for the winegrape industry. Each year\, growers\, PCAs\, private applicators\, and technical advisors from across California gather on the first Tuesday of February to hear directly from leading university researchers and industry experts.<br />\nNow in its 74th year\, Lodi Grape Day is proudly presented by the Lodi District Chamber of Commerce Agribusiness Committee in partnership with University of California Cooperative Extension.<br />\nAttendance during the morning presentations and wine tasting is free and open to everyone (RSVP required). Tickets are required for the luncheon and keynote speaker presentation.<br />\n<strong><a href="https://www.ticketsignup.io/TicketEvent/LodiGrapeDay2026/Info">REGISTER HERE</a></strong><br />\n<strong>Why Attend</strong><br />\nLodi Grape Day delivers research-driven\, practical vineyard management insights focused on:</span></span></p>\n\n<ul>\n	<li style="margin-bottom:0in\;line-height:normal\;"><span style="font-size:14px\;"><span style="font-family:verdana\;">Integrated Pest Management (IPM)</span></span></li>\n	<li style="margin-bottom:0in\;line-height:normal\;"><span style="font-size:14px\;"><span style="font-family:verdana\;">Disease and insect control</span></span></li>\n	<li style="margin-bottom:0in\;line-height:normal\;"><span style="font-size:14px\;"><span style="font-family:verdana\;">Precision viticulture</span></span></li>\n	<li style="margin-bottom:0in\;line-height:normal\;"><span style="font-size:14px\;"><span style="font-family:verdana\;">Irrigation system performance</span></span></li>\n	<li style="margin-bottom:0in\;line-height:normal\;"><span style="font-size:14px\;"><span style="font-family:verdana\;">Emerging pest threats</span></span></li>\n	<li style="margin-bottom:0in\;line-height:normal\;"><span style="font-size:14px\;"><span style="font-family:verdana\;">New technologies shaping vineyard efficiency</span></span></li>\n</ul>\n<span style="font-size:14px\;"><span style="font-family:verdana\;">Attendees will earn <strong>3 hours of DPR Continuing Education (OTHER category)</strong> while gaining tools they can immediately apply in the field.<br />\n<br />\n<strong>2026 Featured Topics &amp\; Speakers</strong><br />\nHighlights from this year&rsquo\;s program include:</span></span>\n\n<ul>\n	<li style="margin-bottom:0in\;line-height:normal\;"><span style="font-size:14px\;"><span style="font-family:verdana\;"><strong>Drones in Viticulture</strong> &ndash\; Dr. Justin Tanner\, UC Cooperative Extension</span></span></li>\n	<li style="margin-bottom:0in\;line-height:normal\;"><span style="font-size:14px\;"><span style="font-family:verdana\;"><strong>Drip Irrigation System Maintenance</strong> &ndash\; Dr. Moneim Mohamed\, UC Cooperative Extension</span></span></li>\n	<li style="margin-bottom:0in\;line-height:normal\;"><span style="font-size:14px\;"><span style="font-family:verdana\;"><strong>Integrated Management of Powdery Mildew\, Botrytis &amp\; Late-Season Rots</strong> &ndash\; Dr. Akif Eskalen\, UC Davis</span></span></li>\n	<li style="margin-bottom:0in\;line-height:normal\;"><span style="font-size:14px\;"><span style="font-family:verdana\;"><strong>Leafhopper &amp\; Vine Mealybug Control</strong> &ndash\; Dr. Robert Van Steenwyk\, UC Berkeley</span></span></li>\n	<li style="margin-bottom:0in\;line-height:normal\;"><span style="font-size:14px\;"><span style="font-family:verdana\;"><strong>Spotted Lanternfly: Early Detection &amp\; Preparedness</strong> &ndash\; Dr. Cindy Kron\, UC Cooperative Extension</span></span></li>\n	<li style="margin-bottom:0in\;line-height:normal\;"><span style="font-size:14px\;"><span style="font-family:verdana\;"><strong>Precision Viticulture &amp\; Spatial Vineyard Management</strong> &ndash\; Dr. Cliff Yu\, Fresno State University</span></span></li>\n</ul>\n<span style="font-size:14px\;"><span style="font-family:verdana\;"><strong>Who Should Attend</strong></span></span>\n\n<ul>\n	<li style="margin-bottom:0in\;line-height:normal\;"><span style="font-size:14px\;"><span style="font-family:verdana\;">Winegrape growers</span></span></li>\n	<li style="margin-bottom:0in\;line-height:normal\;"><span style="font-size:14px\;"><span style="font-family:verdana\;">Pest Control Advisors (PCAs)</span></span></li>\n	<li style="margin-bottom:0in\;line-height:normal\;"><span style="font-size:14px\;"><span style="font-family:verdana\;">Private applicators</span></span></li>\n	<li style="margin-bottom:0in\;line-height:normal\;"><span style="font-size:14px\;"><span style="font-family:verdana\;">Vineyard managers</span></span></li>\n	<li style="margin-bottom:0in\;line-height:normal\;"><span style="font-size:14px\;"><span style="font-family:verdana\;">Agricultural consultants</span></span></li>\n	<li style="margin-bottom:0in\;line-height:normal\;"><span style="font-size:14px\;"><span style="font-family:verdana\;">Technical advisors</span></span></li>\n</ul>\n<br />\n<span style="font-size:14px\;"><span style="font-family:verdana\;"><strong>Sponsorship Levels &amp\; Benefits</strong><br />\n<strong>METHUSELAH LEVEL &ndash\; $2\,500</strong></span></span>\n\n<ul>\n	<li style="margin-bottom:0in\;margin-bottom:0in\;margin-top:0in\;line-height:normal\;"><span style="font-size:14px\;"><span style="font-family:verdana\;">Full-page color ad in Grape Day publication (8&quot\; x 11&quot\; vertical)</span></span></li>\n	<li style="margin-bottom:0in\;margin-bottom:0in\;margin-top:0in\;line-height:normal\;"><span style="font-size:14px\;"><span style="font-family:verdana\;">Company banner displayed at Lodi Grape Day &amp\; Lodi Farm Safety Day<br />\n	(10&#39\; x 3&#39\; max banner delivered to the Lodi Chamber Office 3 weeks prior to the event)</span></span></li>\n	<li style="margin-bottom:0in\;margin-bottom:0in\;margin-top:0in\;line-height:normal\;"><span style="font-size:14px\;"><span style="font-family:verdana\;">Company logo on presentation screen at Grape Day &amp\; Farm Safety Day</span></span></li>\n	<li style="margin-bottom:0in\;margin-bottom:0in\;margin-top:0in\;line-height:normal\;"><span style="font-size:14px\;"><span style="font-family:verdana\;">Full-page insert flyer at Farm Safety Day (flyer provided by sponsor)</span></span></li>\n	<li style="margin-bottom:0in\;margin-bottom:0in\;margin-top:0in\;line-height:normal\;"><span style="font-size:14px\;"><span style="font-family:verdana\;">Opportunity to hand out company logo promotional item or giveaway at Grape Day and/or Farm Safety Day</span></span></li>\n	<li style="margin-bottom:0in\;margin-bottom:0in\;margin-top:0in\;line-height:normal\;"><span style="font-size:14px\;"><span style="font-family:verdana\;">Lodi Grape Day luncheon at Hutchins Street Square<br />\n	<em>Sponsors must RSVP luncheon reservations by 1/17/2026</em><br />\n	(Select one):Reserved table of 10 or 10 individual tickets</span></span></li>\n	<li style="margin-bottom:0in\;margin-bottom:0in\;margin-top:0in\;line-height:normal\;"><span style="font-size:14px\;"><span style="font-family:verdana\;">Company name placed on Lodi Grape Day/Farm Safety Day event page at <strong>lodichamber.com</strong> for 12 months with a link to your website</span></span></li>\n</ul>\n<span style="font-size:14px\;"><span style="font-family:verdana\;">&nbsp\;<br />\n<strong>IMPERIAL LEVEL &ndash\; $1\,500</strong></span></span>\n\n<ul>\n	<li style="margin-bottom:0in\;line-height:normal\;"><span style="font-size:14px\;"><span style="font-family:verdana\;">Half-page color ad in Grape Day publication (7.5&quot\; x 5&quot\; horizontal)</span></span></li>\n	<li style="margin-bottom:0in\;line-height:normal\;"><span style="font-size:14px\;"><span style="font-family:verdana\;">Company name listed on presentation screen at Lodi Grape Day &amp\; Lodi Farm Safety Day</span></span></li>\n	<li style="margin-bottom:0in\;line-height:normal\;"><span style="font-size:14px\;"><span style="font-family:verdana\;">Company name listed on sponsor insert at Farm Safety Day</span></span></li>\n	<li style="margin-bottom:0in\;line-height:normal\;"><span style="font-size:14px\;"><span style="font-family:verdana\;">Opportunity to hand out company logo promotional item or giveaway at Grape Day and/or Farm Safety Day</span></span></li>\n	<li style="margin-bottom:0in\;line-height:normal\;"><span style="font-size:14px\;"><span style="font-family:verdana\;">5 complimentary Lodi Grape Day luncheon tickets<br />\n	<em>Sponsors must RSVP luncheon reservations by 1/17/2026</em></span></span></li>\n	<li style="margin-bottom:0in\;line-height:normal\;"><span style="font-size:14px\;"><span style="font-family:verdana\;">Company name placed on Lodi Grape Day/Farm Safety Day event page at <strong>lodichamber.com</strong> for 12 months with a link to your website</span></span></li>\n</ul>\n<span style="font-size:14px\;"><span style="font-family:verdana\;">&nbsp\;<br />\n<strong>JEROBOAM LEVEL &ndash\; $1\,000</strong></span></span>\n\n<ul>\n	<li style="margin-bottom:0in\;line-height:normal\;"><span style="font-size:14px\;"><span style="font-family:verdana\;">Quarter-page color ad in event programs (3.5&quot\; x 5&quot\; vertical)</span></span></li>\n	<li style="margin-bottom:0in\;line-height:normal\;"><span style="font-size:14px\;"><span style="font-family:verdana\;">5 complimentary Lodi Grape Day luncheon tickets<br />\n	<em>Sponsors must RSVP luncheon reservations by 1/17/2026</em></span></span></li>\n	<li style="margin-bottom:0in\;line-height:normal\;"><span style="font-size:14px\;"><span style="font-family:verdana\;">Company name mentioned as a sponsor on a presentation screen</span></span></li>\n	<li style="margin-bottom:0in\;line-height:normal\;"><span style="font-size:14px\;"><span style="font-family:verdana\;">Company name placed on Lodi Grape Day/Farm Safety Day event page at <strong>lodichamber.com</strong> for 12 months with a link to your website</span></span></li>\n</ul>\n<span style="font-size:14px\;"><span style="font-family:verdana\;">&nbsp\;<br />\n<strong>DOUBLE MAGNUM LEVEL &ndash\; $500</strong></span></span>\n\n<ul>\n	<li style="margin-bottom:0in\;line-height:normal\;"><span style="font-size:14px\;"><span style="font-family:verdana\;">Business card-sized color ad in event programs (3.5&quot\; x 2&quot\; horizontal)</span></span></li>\n	<li style="margin-bottom:0in\;line-height:normal\;"><span style="font-size:14px\;"><span style="font-family:verdana\;">4 complimentary Lodi Grape Day luncheon tickets<br />\n	<em>Sponsors must RSVP luncheon reservations by 1/17/2026</em></span></span></li>\n	<li style="margin-bottom:0in\;line-height:normal\;"><span style="font-size:14px\;"><span style="font-family:verdana\;">Company name mentioned as a sponsor on a presentation screen</span></span></li>\n	<li style="margin-bottom:0in\;line-height:normal\;"><span style="font-size:14px\;"><span style="font-family:verdana\;">Company name placed on Lodi Grape Day/Farm Safety Day event page at <strong>lodichamber.com</strong> for 12 months with a link to your website</span></span></li>\n</ul>\n<span style="font-size:14px\;"><span style="font-family:verdana\;">&nbsp\;<br />\n<strong>MAGNUM LEVEL &ndash\; $200</strong></span></span>\n\n<ul>\n	<li style="margin-bottom:0in\;line-height:normal\;"><span style="font-size:14px\;"><span style="font-family:verdana\;">Company name listed in event programs</span></span></li>\n	<li style="margin-bottom:0in\;line-height:normal\;"><span style="font-size:14px\;"><span style="font-family:verdana\;">3 complimentary Lodi Grape Day luncheon tickets<br />\n	<em>Sponsors must RSVP luncheon reservations by 1/17/2026</em></span></span></li>\n	<li style="margin-bottom:0in\;line-height:normal\;"><span style="font-size:14px\;"><span style="font-family:verdana\;">Company name mentioned as a sponsor on a presentation screen</span></span></li>\n	<li style="margin-bottom:0in\;line-height:normal\;"><span style="font-size:14px\;"><span style="font-family:verdana\;">Company name placed on Lodi Grape Day/Farm Safety Day event page at <strong>lodichamber.com</strong> for 12 months with a link to your website</span></span></li>\n</ul>\n\n<p style="box-sizing: border-box\; margin: 0px 0px 10px\; color: rgb(85\, 85\, 85)\; font-family: Montserrat\, sans-serif\; font-size: 16px\;"><span style="font-size:14px\;"><span style="font-family:verdana\;">&nbsp\;<br />\n<strong>Sponsorships available through January 17\, 2025</strong><br />\n<a href="https://www.lodichamber.com/assets/pdf/2026+Grape+Day+Sponsorship+Info"><strong>Click Here to Download Sponsorship Form</strong></a><br />\nQuestions? Contact&nbsp\;<a href="mailto:https://www.lodichamber.com/assets/pdf/2026+Grape+Day+Sponsorship+Info?subject=2026%20Grape%20Day%20Sponsorship"><strong>events@lodichamber.com</strong></a><br />\n&nbsp\;</span></span></p>\n
LOCATION:Hutchins Street Square\, 125 S. Hutchins St. Lodi\, CA
UID:e.2050.6274
SEQUENCE:3
DTSTAMP:20260426T002548Z
URL:http://lodichamber.chambermaster.com/events/details/lodi-grape-day-6274
END:VEVENT

END:VCALENDAR
