BEGIN:VCALENDAR
VERSION:2.0
PRODID:-//ChamberMaster//Event Calendar 2.0//EN
METHOD:PUBLISH
X-PUBLISHED-TTL:P3D
REFRESH-INTERVAL:P3D
CALSCALE:GREGORIAN
BEGIN:VEVENT
DTSTART:20251205T021500Z
DTEND:20251205T050000Z
X-MICROSOFT-CDO-ALLDAYEVENT:FALSE
SUMMARY:Lodi Light Parade
DESCRIPTION:Lodi Light Parade\n\nPresent by Kiwanis
X-ALT-DESC;FMTTYPE=text/html:Lodi Light Parade<br />\nPresent by Kiwanis
LOCATION:
UID:e.2050.6192
SEQUENCE:3
DTSTAMP:20260423T184228Z
URL:http://lodichamber.chambermaster.com/events/details/lodi-light-parade-6192
END:VEVENT

END:VCALENDAR
