BEGIN:VCALENDAR
VERSION:2.0
PRODID:-//ChamberMaster//Event Calendar 2.0//EN
METHOD:PUBLISH
X-PUBLISHED-TTL:P3D
REFRESH-INTERVAL:P3D
CALSCALE:GREGORIAN
BEGIN:VEVENT
DTSTART:20251112T163000Z
DTEND:20251112T180000Z
X-MICROSOFT-CDO-ALLDAYEVENT:FALSE
SUMMARY:Lodi Networking Mixer
DESCRIPTION:We're excited to invite you to the upcoming Lodi Chamber Networking Mixer\, hosted by Sonjhia Lowery and Trail Coffee Roasters at their downtown Lodi location (217 N. School Street) on Wednesday\, November 12th from 8:30 10:00 AM.\n\nHere's a quick look at what's planned:\n\n	JP Doucette\, President & CEO of the Lodi Chamber   Welcome remarks and Chamber membership insights\n\n\n\n	Sonjhia Lowery\, Trail Coffee   Trail's success story and experience with the Hometown Microloan Program\n\n\n\n	Anna-Marie Rodriguez\, California Capital FDC   Overview of the Microloan Program and how it supports local businesses\n\n\n\n	Luis Aguilar\, Economic Development Director\, City of Lodi   Updates on city initiatives supporting business growth\n\n\n\n	Networking Time   Connect with other local entrepreneurs and community leaders\n\nSpace is limited\, so please RSVP to Anna-Marie Rodriguez\, Business Development Officer\, at (916) 299-6795 or arodriguez@cacapital.org by November 7th.\n\nWe look forward to connecting with you and sharing this opportunity to network\, learn\, and celebrate local business success!
X-ALT-DESC;FMTTYPE=text/html:<span style="color:black\;"><span style="font-family:calibri\,sans-serif\;"><span style="font-size:11.0pt\;">We&rsquo\;re excited to invite you to the upcoming Lodi Chamber Networking Mixer\, hosted by Sonjhia Lowery and Trail Coffee Roasters&nbsp\;at their downtown Lodi location (217 N. School Street) on <strong>Wednesday\, November 12th from 8:30&ndash\;10:00 AM</strong>.</span></span></span><br />\n<span style="color:black\;"><span style="font-family:calibri\,sans-serif\;"><span style="font-size:11.0pt\;">Here&rsquo\;s a quick look at what&rsquo\;s planned:</span></span></span>\n<ul>\n	<li><strong><span style="color:black\;"><span style="font-family:calibri\,sans-serif\;"><span style="font-size:11.0pt\;">JP Doucette</span></span></span></strong><span style="color:black\;"><span style="font-family:calibri\,sans-serif\;"><span style="font-size:11.0pt\;">\, President &amp\; CEO of the Lodi Chamber &ndash\; Welcome remarks and Chamber membership insights</span></span></span></li>\n</ul>\n\n<ul>\n	<li><strong><span style="color:black\;"><span style="font-family:calibri\,sans-serif\;"><span style="font-size:11.0pt\;">Sonjhia Lowery</span></span></span></strong><span style="color:black\;"><span style="font-family:calibri\,sans-serif\;"><span style="font-size:11.0pt\;">\, Trail Coffee &ndash\; Trail&rsquo\;s success story and experience with the Hometown Microloan Program</span></span></span></li>\n</ul>\n\n<ul>\n	<li><strong><span style="color:black\;"><span style="font-family:calibri\,sans-serif\;"><span style="font-size:11.0pt\;">Anna-Marie Rodriguez</span></span></span></strong><span style="color:black\;"><span style="font-family:calibri\,sans-serif\;"><span style="font-size:11.0pt\;">\, California Capital FDC &ndash\; Overview of the Microloan Program and how it supports local businesses</span></span></span></li>\n</ul>\n\n<ul>\n	<li><strong><span style="color:black\;"><span style="font-family:calibri\,sans-serif\;"><span style="font-size:11.0pt\;">Luis Aguilar</span></span></span></strong><span style="color:black\;"><span style="font-family:calibri\,sans-serif\;"><span style="font-size:11.0pt\;">\, Economic Development Director\, City of Lodi &ndash\; Updates on city initiatives supporting business growth</span></span></span></li>\n</ul>\n\n<ul>\n	<li><strong><span style="color:black\;"><span style="font-family:calibri\,sans-serif\;"><span style="font-size:11.0pt\;">Networking Time</span></span></span></strong><span style="color:black\;"><span style="font-family:calibri\,sans-serif\;"><span style="font-size:11.0pt\;">&nbsp\;&ndash\; Connect with other local entrepreneurs and community leaders</span></span></span></li>\n</ul>\n<strong><em><span style="color:black\;"><span style="font-family:calibri\,sans-serif\;"><span style="font-size:11.0pt\;">Space is limited</span></span></span></em></strong><span style="color:black\;"><span style="font-family:calibri\,sans-serif\;"><span style="font-size:11.0pt\;">\, so please RSVP to Anna-Marie Rodriguez\, Business Development Officer\, at (916) 299-6795 or <a href="mailto:arodriguez@cacapital.org">arodriguez@cacapital.org</a> by <strong>November 7th</strong>.</span></span></span><br />\n<span style="color:black\;"><span style="font-family:calibri\,sans-serif\;"><span style="font-size:11.0pt\;">We look forward to connecting with you and sharing this opportunity to network\, learn\, and celebrate local business success!</span></span></span>
LOCATION:TRAIL COFFEE ROASTERS 217 N SCHOOL STREET LODI
UID:e.2050.6183
SEQUENCE:3
DTSTAMP:20260424T005429Z
URL:http://lodichamber.chambermaster.com/events/details/lodi-networking-mixer-6183
END:VEVENT

END:VCALENDAR
